BEGIN:VCALENDAR
VERSION:2.0
PRODID:-//FAS - ECPv6.15.20//NONSGML v1.0//EN
CALSCALE:GREGORIAN
METHOD:PUBLISH
X-WR-CALNAME:FAS
X-ORIGINAL-URL:https://foundationassistingseniors.org
X-WR-CALDESC:Events for FAS
REFRESH-INTERVAL;VALUE=DURATION:PT1H
X-Robots-Tag:noindex
X-PUBLISHED-TTL:PT1H
BEGIN:VTIMEZONE
TZID:America/Los_Angeles
BEGIN:DAYLIGHT
TZOFFSETFROM:-0800
TZOFFSETTO:-0700
TZNAME:PDT
DTSTART:20250309T100000
END:DAYLIGHT
BEGIN:STANDARD
TZOFFSETFROM:-0700
TZOFFSETTO:-0800
TZNAME:PST
DTSTART:20251102T090000
END:STANDARD
BEGIN:DAYLIGHT
TZOFFSETFROM:-0800
TZOFFSETTO:-0700
TZNAME:PDT
DTSTART:20260308T100000
END:DAYLIGHT
BEGIN:STANDARD
TZOFFSETFROM:-0700
TZOFFSETTO:-0800
TZNAME:PST
DTSTART:20261101T090000
END:STANDARD
BEGIN:DAYLIGHT
TZOFFSETFROM:-0800
TZOFFSETTO:-0700
TZNAME:PDT
DTSTART:20270314T100000
END:DAYLIGHT
BEGIN:STANDARD
TZOFFSETFROM:-0700
TZOFFSETTO:-0800
TZNAME:PST
DTSTART:20271107T090000
END:STANDARD
END:VTIMEZONE
BEGIN:VTIMEZONE
TZID:UTC
BEGIN:STANDARD
TZOFFSETFROM:+0000
TZOFFSETTO:+0000
TZNAME:UTC
DTSTART:20250101T000000
END:STANDARD
END:VTIMEZONE
BEGIN:VEVENT
DTSTART;VALUE=DATE:20260518
DTEND;VALUE=DATE:20260519
DTSTAMP:20260419T174305
CREATED:20260110T003650Z
LAST-MODIFIED:20260402T170332Z
UID:3518-1779062400-1779148799@foundationassistingseniors.org
SUMMARY:22nd Annual Star Spangled Golf Tournament
DESCRIPTION:Click here to sign up today! – REGISTER
URL:https://foundationassistingseniors.org/event/22nd-annual-star-spangled-golf-tournament/
LOCATION:Anthem Country Club
ATTACH;FMTTYPE=image/png:https://foundationassistingseniors.org/wp-content/uploads/2026/04/Golf-Flyer-1.png
END:VEVENT
BEGIN:VEVENT
DTSTART;VALUE=DATE:20260924
DTEND;VALUE=DATE:20260925
DTSTAMP:20260419T174305
CREATED:20260107T040634Z
LAST-MODIFIED:20260310T185334Z
UID:3275-1790208000-1790294399@foundationassistingseniors.org
SUMMARY:Tea and Tribute
DESCRIPTION:Details coming soon!
URL:https://foundationassistingseniors.org/event/tea-and-tribute/
ATTACH;FMTTYPE=image/png:https://foundationassistingseniors.org/wp-content/uploads/2026/01/V2-of-FAS-Tea-Party-Sponsor-Deck.png
END:VEVENT
END:VCALENDAR